BEGIN:VCALENDAR
VERSION:2.0
PRODID:-//tgpdenver.org//NONSGML kigkonsult.se iCalcreator 2.30.10//
CALSCALE:GREGORIAN
METHOD:PUBLISH
UID:0a093e36-9c16-4dc9-9f5f-e0489454b203
X-WR-CALDESC:
X-WR-RELCALID:d0fa21b83c5c26853dcbaf489c93db07
X-WR-TIMEZONE:America/Denver
BEGIN:VTIMEZONE
TZID:America/Denver
BEGIN:STANDARD
TZNAME:MST
DTSTART:20231105T020000
TZOFFSETFROM:-0600
TZOFFSETTO:-0700
RDATE:20241103T020000
END:STANDARD
BEGIN:DAYLIGHT
TZNAME:MDT
DTSTART:20230312T020000
TZOFFSETFROM:-0700
TZOFFSETTO:-0600
RDATE:20240310T020000
RDATE:20250309T020000
END:DAYLIGHT
END:VTIMEZONE
BEGIN:VEVENT
UID:8c6a2a75-6b0d-4159-851a-aa4c080f40b0
DTSTAMP:20260425T164607Z
DESCRIPTION:
DTSTART;TZID=America/Denver:20231213T100000
DTEND;TZID=America/Denver:20231213T120000
LOCATION:
SUMMARY:WellPower
END:VEVENT
END:VCALENDAR
