BEGIN:VCALENDAR
VERSION:2.0
PRODID:-//tgpdenver.org//NONSGML kigkonsult.se iCalcreator 2.30.10//
CALSCALE:GREGORIAN
METHOD:PUBLISH
UID:e74668fd-638d-4047-a38a-fc526b12a6a1
X-WR-CALDESC:
X-WR-RELCALID:fad3b3cf2cd59806603130aa1eadc3aa
X-WR-TIMEZONE:America/Denver
BEGIN:VTIMEZONE
TZID:America/Denver
BEGIN:STANDARD
TZNAME:MST
DTSTART:20231105T020000
TZOFFSETFROM:-0600
TZOFFSETTO:-0700
RDATE:20241103T020000
END:STANDARD
BEGIN:DAYLIGHT
TZNAME:MDT
DTSTART:20230312T020000
TZOFFSETFROM:-0700
TZOFFSETTO:-0600
RDATE:20240310T020000
RDATE:20250309T020000
END:DAYLIGHT
END:VTIMEZONE
BEGIN:VEVENT
UID:725f4939-7927-4d04-9e21-7c5a27c244b6
DTSTAMP:20260425T165130Z
DESCRIPTION:
DTSTART;TZID=America/Denver:20231218T090000
DTEND;TZID=America/Denver:20231218T110000
LOCATION:Welcome Area
SUMMARY:Denver Women's Care
END:VEVENT
END:VCALENDAR
