BEGIN:VCALENDAR
VERSION:2.0
PRODID:-//tgpdenver.org//NONSGML kigkonsult.se iCalcreator 2.30.10//
CALSCALE:GREGORIAN
METHOD:PUBLISH
UID:830af6bc-e6aa-48bf-a910-5cd0fffbbae8
X-WR-CALDESC:Suboxone\, Substance Use Support
X-WR-RELCALID:d82f46029c8c3b28083b15e128699a7d
X-WR-TIMEZONE:America/Denver
BEGIN:VTIMEZONE
TZID:America/Denver
BEGIN:STANDARD
TZNAME:MST
DTSTART:20231105T020000
TZOFFSETFROM:-0600
TZOFFSETTO:-0700
RDATE:20241103T020000
END:STANDARD
BEGIN:DAYLIGHT
TZNAME:MDT
DTSTART:20230312T020000
TZOFFSETFROM:-0700
TZOFFSETTO:-0600
RDATE:20240310T020000
RDATE:20250309T020000
END:DAYLIGHT
END:VTIMEZONE
BEGIN:VEVENT
UID:82af0734-8af2-4dd9-a24c-6eec962c3558
DTSTAMP:20260425T164916Z
DESCRIPTION:Suboxone\, Substance Use Support
DTSTART;TZID=America/Denver:20231218T100000
DTEND;TZID=America/Denver:20231218T110000
LOCATION:Foyer
SUMMARY:Medication Assisted Treatment
END:VEVENT
END:VCALENDAR
