BEGIN:VCALENDAR
VERSION:2.0
PRODID:-//tgpdenver.org//NONSGML kigkonsult.se iCalcreator 2.30.10//
CALSCALE:GREGORIAN
METHOD:PUBLISH
UID:bb47ebed-5395-4995-aaa8-ae6afdcad6a2
X-WR-CALDESC:
X-WR-RELCALID:1af3911f174a790435824f09992efc8f
X-WR-TIMEZONE:America/Denver
BEGIN:VTIMEZONE
TZID:America/Denver
BEGIN:STANDARD
TZNAME:MST
DTSTART:20231105T020000
TZOFFSETFROM:-0600
TZOFFSETTO:-0700
RDATE:20241103T020000
END:STANDARD
BEGIN:DAYLIGHT
TZNAME:MDT
DTSTART:20230312T020000
TZOFFSETFROM:-0700
TZOFFSETTO:-0600
RDATE:20240310T020000
RDATE:20250309T020000
END:DAYLIGHT
END:VTIMEZONE
BEGIN:VEVENT
UID:78c7ec9a-a849-490f-a3e3-057cd37be0da
DTSTAMP:20260425T164607Z
DESCRIPTION:
DTSTART;TZID=America/Denver:20231218T130000
DTEND;TZID=America/Denver:20231218T134500
LOCATION:Art Studio
SUMMARY:Survivor Circle
END:VEVENT
END:VCALENDAR
