BEGIN:VCALENDAR
VERSION:2.0
PRODID:-//tgpdenver.org//NONSGML kigkonsult.se iCalcreator 2.30.10//
CALSCALE:GREGORIAN
METHOD:PUBLISH
UID:972adcef-1521-443e-b393-2a789f04f5c8
X-WR-CALDESC:
X-WR-RELCALID:81882fc7bb81a13f36d82eb7841ead69
X-WR-TIMEZONE:America/Denver
BEGIN:VTIMEZONE
TZID:America/Denver
BEGIN:STANDARD
TZNAME:MST
DTSTART:20231105T020000
TZOFFSETFROM:-0600
TZOFFSETTO:-0700
RDATE:20241103T020000
END:STANDARD
BEGIN:DAYLIGHT
TZNAME:MDT
DTSTART:20230312T020000
TZOFFSETFROM:-0700
TZOFFSETTO:-0600
RDATE:20240310T020000
RDATE:20250309T020000
END:DAYLIGHT
END:VTIMEZONE
BEGIN:VEVENT
UID:6a712908-e29e-4894-baa6-80f942398276
DTSTAMP:20260425T164727Z
DESCRIPTION:
DTSTART;TZID=America/Denver:20231220T100000
DTEND;TZID=America/Denver:20231220T120000
LOCATION:
SUMMARY:WellPower
END:VEVENT
END:VCALENDAR
