BEGIN:VCALENDAR
VERSION:2.0
PRODID:-//tgpdenver.org//NONSGML kigkonsult.se iCalcreator 2.30.10//
CALSCALE:GREGORIAN
METHOD:PUBLISH
UID:cca02738-2a9b-4eeb-aa44-9070e27af15d
X-WR-CALDESC:
X-WR-RELCALID:98e3b823c15db234bc8e855d763ef2b2
X-WR-TIMEZONE:America/Denver
BEGIN:VTIMEZONE
TZID:America/Denver
BEGIN:STANDARD
TZNAME:MST
DTSTART:20231105T020000
TZOFFSETFROM:-0600
TZOFFSETTO:-0700
RDATE:20241103T020000
END:STANDARD
BEGIN:DAYLIGHT
TZNAME:MDT
DTSTART:20230312T020000
TZOFFSETFROM:-0700
TZOFFSETTO:-0600
RDATE:20240310T020000
RDATE:20250309T020000
END:DAYLIGHT
END:VTIMEZONE
BEGIN:VEVENT
UID:f4f2bc3c-6089-4f5f-b0f8-ef0f92e4a8d6
DTSTAMP:20260425T164716Z
DESCRIPTION:
DTSTART;TZID=America/Denver:20231227T100000
DTEND;TZID=America/Denver:20231227T113000
LOCATION:
SUMMARY:Native American talking circle
END:VEVENT
END:VCALENDAR
