BEGIN:VCALENDAR
VERSION:2.0
PRODID:-//tgpdenver.org//NONSGML kigkonsult.se iCalcreator 2.30.10//
CALSCALE:GREGORIAN
METHOD:PUBLISH
UID:4c8eae96-e187-418a-86f5-c9389adb614a
X-WR-CALDESC:
X-WR-RELCALID:bd7da3909c39c7c7a582382d774dc860
X-WR-TIMEZONE:America/Denver
BEGIN:VTIMEZONE
TZID:America/Denver
BEGIN:STANDARD
TZNAME:MST
DTSTART:20231105T020000
TZOFFSETFROM:-0600
TZOFFSETTO:-0700
RDATE:20241103T020000
END:STANDARD
BEGIN:DAYLIGHT
TZNAME:MDT
DTSTART:20230312T020000
TZOFFSETFROM:-0700
TZOFFSETTO:-0600
RDATE:20240310T020000
RDATE:20250309T020000
END:DAYLIGHT
END:VTIMEZONE
BEGIN:VEVENT
UID:1154d48d-a95a-49f1-89de-ca0fd03a7646
DTSTAMP:20260425T164717Z
DESCRIPTION:
DTSTART;TZID=America/Denver:20231227T100000
DTEND;TZID=America/Denver:20231227T120000
LOCATION:
SUMMARY:WellPower
END:VEVENT
END:VCALENDAR
