BEGIN:VCALENDAR
VERSION:2.0
PRODID:-//tgpdenver.org//NONSGML kigkonsult.se iCalcreator 2.30.10//
CALSCALE:GREGORIAN
METHOD:PUBLISH
UID:81089f50-5ce0-456b-8602-61b9435de088
X-WR-CALDESC:Simple\, guided clay projects for beginners.
X-WR-RELCALID:5e7b037400c03af3728e3a2ec7a6e899
X-WR-TIMEZONE:America/Denver
BEGIN:VTIMEZONE
TZID:America/Denver
BEGIN:STANDARD
TZNAME:MST
DTSTART:20231105T020000
TZOFFSETFROM:-0600
TZOFFSETTO:-0700
RDATE:20241103T020000
END:STANDARD
BEGIN:DAYLIGHT
TZNAME:MDT
DTSTART:20230312T020000
TZOFFSETFROM:-0700
TZOFFSETTO:-0600
RDATE:20240310T020000
RDATE:20250309T020000
END:DAYLIGHT
END:VTIMEZONE
BEGIN:VEVENT
UID:0ee323c5-42bf-4583-a11f-04fc8a266be0
DTSTAMP:20260425T164435Z
DESCRIPTION:Simple\, guided clay projects for beginners.
DTSTART;TZID=America/Denver:20231229T100000
DTEND;TZID=America/Denver:20231229T120000
LOCATION:3rd floor art studio
SUMMARY:clay class
END:VEVENT
END:VCALENDAR
