BEGIN:VCALENDAR
VERSION:2.0
PRODID:-//tgpdenver.org//NONSGML kigkonsult.se iCalcreator 2.30.10//
CALSCALE:GREGORIAN
METHOD:PUBLISH
UID:97c4f6b5-d478-44c4-b3b2-68d37c7003d2
X-WR-CALDESC:Grupo social para conectarse\, sanar\, y aprender juntos. El p
 rograma busca crear un espacio seguro para nuestros miembros latines para 
 encontrar comunidad\, apoyo y bienestar mientras honran su propia verdad.
X-WR-RELCALID:3484b93ca26794f8dc7193049d7e3a32
X-WR-TIMEZONE:America/Denver
BEGIN:VTIMEZONE
TZID:America/Denver
BEGIN:STANDARD
TZNAME:MST
DTSTART:20231105T020000
TZOFFSETFROM:-0600
TZOFFSETTO:-0700
RDATE:20241103T020000
END:STANDARD
BEGIN:DAYLIGHT
TZNAME:MDT
DTSTART:20230312T020000
TZOFFSETFROM:-0700
TZOFFSETTO:-0600
RDATE:20240310T020000
RDATE:20250309T020000
END:DAYLIGHT
END:VTIMEZONE
BEGIN:VEVENT
UID:04fbda02-a51c-466f-8203-ee8176662e0c
DTSTAMP:20260425T165129Z
DESCRIPTION:Grupo social para conectarse\, sanar\, y aprender juntos. El pr
 ograma busca crear un espacio seguro para nuestros miembros latines para e
 ncontrar comunidad\, apoyo y bienestar mientras honran su propia verdad.
DTSTART;TZID=America/Denver:20231229T130000
DTEND;TZID=America/Denver:20231229T140000
LOCATION:Estudio de Arte\, 3er piso
SUMMARY:La Cultura Cura
END:VEVENT
END:VCALENDAR
