BEGIN:VCALENDAR
VERSION:2.0
PRODID:-//tgpdenver.org//NONSGML kigkonsult.se iCalcreator 2.30.10//
CALSCALE:GREGORIAN
METHOD:PUBLISH
UID:cbbf34c3-5000-42f6-a94c-13857881547a
X-WR-CALDESC:Clinicians from Stout Street Clinic HOP visit to help with bas
 ic health needs. First come\, first served.
X-WR-RELCALID:8448016a6f7eb524b796efcdb5aa4d81
X-WR-TIMEZONE:America/Denver
BEGIN:VTIMEZONE
TZID:America/Denver
BEGIN:STANDARD
TZNAME:MST
DTSTART:20231105T020000
TZOFFSETFROM:-0600
TZOFFSETTO:-0700
RDATE:20241103T020000
END:STANDARD
BEGIN:DAYLIGHT
TZNAME:MDT
DTSTART:20230312T020000
TZOFFSETFROM:-0700
TZOFFSETTO:-0600
RDATE:20240310T020000
RDATE:20250309T020000
END:DAYLIGHT
END:VTIMEZONE
BEGIN:VEVENT
UID:1971196a-796a-4887-9063-83d0c791593a
DTSTAMP:20260425T150045Z
DESCRIPTION:Clinicians from Stout Street Clinic HOP visit to help with basi
 c health needs. First come\, first served.
DTSTART;TZID=America/Denver:20240103T090000
DTEND;TZID=America/Denver:20240103T130000
LOCATION:Wellness Area\, 1st Floor
SUMMARY:Stout St. Health Outreach Program
END:VEVENT
END:VCALENDAR
