BEGIN:VCALENDAR
VERSION:2.0
PRODID:-//tgpdenver.org//NONSGML kigkonsult.se iCalcreator 2.30.10//
CALSCALE:GREGORIAN
METHOD:PUBLISH
UID:3db8c998-8db3-48a1-bfbb-5f530485a9eb
X-WR-CALDESC:
X-WR-RELCALID:34c40c6d16d8a1a234846783e3b8d648
X-WR-TIMEZONE:America/Denver
BEGIN:VTIMEZONE
TZID:America/Denver
BEGIN:STANDARD
TZNAME:MST
DTSTART:20231105T020000
TZOFFSETFROM:-0600
TZOFFSETTO:-0700
RDATE:20241103T020000
END:STANDARD
BEGIN:DAYLIGHT
TZNAME:MDT
DTSTART:20230312T020000
TZOFFSETFROM:-0700
TZOFFSETTO:-0600
RDATE:20240310T020000
RDATE:20250309T020000
END:DAYLIGHT
END:VTIMEZONE
BEGIN:VEVENT
UID:8acb02d2-4f80-4daf-83cd-80ed3a78ec83
DTSTAMP:20260425T145259Z
DESCRIPTION:
DTSTART;TZID=America/Denver:20240103T100000
DTEND;TZID=America/Denver:20240103T120000
LOCATION:
SUMMARY:WellPower
END:VEVENT
END:VCALENDAR
