BEGIN:VCALENDAR
VERSION:2.0
PRODID:-//tgpdenver.org//NONSGML kigkonsult.se iCalcreator 2.30.10//
CALSCALE:GREGORIAN
METHOD:PUBLISH
UID:112b50ad-40a0-4a01-8657-21fe0cd1cdcd
X-WR-CALDESC:
X-WR-RELCALID:a506e26045e161c79ea9b6d3c6bc9825
X-WR-TIMEZONE:America/Denver
BEGIN:VTIMEZONE
TZID:America/Denver
BEGIN:STANDARD
TZNAME:MST
DTSTART:20231105T020000
TZOFFSETFROM:-0600
TZOFFSETTO:-0700
RDATE:20241103T020000
END:STANDARD
BEGIN:DAYLIGHT
TZNAME:MDT
DTSTART:20230312T020000
TZOFFSETFROM:-0700
TZOFFSETTO:-0600
RDATE:20240310T020000
RDATE:20250309T020000
END:DAYLIGHT
END:VTIMEZONE
BEGIN:VEVENT
UID:6385a208-1dd2-484b-9b40-e3456292b2cb
DTSTAMP:20260425T145305Z
DESCRIPTION:
DTSTART;TZID=America/Denver:20240110T100000
DTEND;TZID=America/Denver:20240110T113000
LOCATION:
SUMMARY:Native American talking circle
END:VEVENT
END:VCALENDAR
