BEGIN:VCALENDAR
VERSION:2.0
PRODID:-//tgpdenver.org//NONSGML kigkonsult.se iCalcreator 2.30.10//
CALSCALE:GREGORIAN
METHOD:PUBLISH
UID:daa81767-b015-473c-a130-80812e48cd83
X-WR-CALDESC:
X-WR-RELCALID:e1ebca508bfed8e7a098b5ffa510b3af
X-WR-TIMEZONE:America/Denver
BEGIN:VTIMEZONE
TZID:America/Denver
BEGIN:STANDARD
TZNAME:MST
DTSTART:20231105T020000
TZOFFSETFROM:-0600
TZOFFSETTO:-0700
RDATE:20241103T020000
END:STANDARD
BEGIN:DAYLIGHT
TZNAME:MDT
DTSTART:20230312T020000
TZOFFSETFROM:-0700
TZOFFSETTO:-0600
RDATE:20240310T020000
RDATE:20250309T020000
END:DAYLIGHT
END:VTIMEZONE
BEGIN:VEVENT
UID:9147b573-8de7-4121-aab4-d545c16caca6
DTSTAMP:20260425T145305Z
DESCRIPTION:
DTSTART;TZID=America/Denver:20240110T100000
DTEND;TZID=America/Denver:20240110T120000
LOCATION:
SUMMARY:WellPower
END:VEVENT
END:VCALENDAR
