BEGIN:VCALENDAR
VERSION:2.0
PRODID:-//tgpdenver.org//NONSGML kigkonsult.se iCalcreator 2.30.10//
CALSCALE:GREGORIAN
METHOD:PUBLISH
UID:83aef802-c848-40dc-959c-38fa699a32a8
X-WR-CALDESC:
X-WR-RELCALID:ad42edbe01004dddb89b344ff14306ed
X-WR-TIMEZONE:America/Denver
BEGIN:VTIMEZONE
TZID:America/Denver
BEGIN:STANDARD
TZNAME:MST
DTSTART:20231105T020000
TZOFFSETFROM:-0600
TZOFFSETTO:-0700
RDATE:20241103T020000
END:STANDARD
BEGIN:DAYLIGHT
TZNAME:MDT
DTSTART:20230312T020000
TZOFFSETFROM:-0700
TZOFFSETTO:-0600
RDATE:20240310T020000
RDATE:20250309T020000
END:DAYLIGHT
END:VTIMEZONE
BEGIN:VEVENT
UID:5f6654aa-1fd6-47e3-94fb-f123f7796af0
DTSTAMP:20260425T145306Z
DESCRIPTION:
DTSTART;TZID=America/Denver:20240117T100000
DTEND;TZID=America/Denver:20240117T113000
LOCATION:
SUMMARY:Native American talking circle
END:VEVENT
END:VCALENDAR
