BEGIN:VCALENDAR
VERSION:2.0
PRODID:-//tgpdenver.org//NONSGML kigkonsult.se iCalcreator 2.30.10//
CALSCALE:GREGORIAN
METHOD:PUBLISH
UID:4b8e1416-c858-4c88-9ccc-6e160f2ebd1b
X-WR-CALDESC:
X-WR-RELCALID:227adb3c71ff62daeb2652be947c964c
X-WR-TIMEZONE:America/Denver
BEGIN:VTIMEZONE
TZID:America/Denver
BEGIN:STANDARD
TZNAME:MST
DTSTART:20231105T020000
TZOFFSETFROM:-0600
TZOFFSETTO:-0700
RDATE:20241103T020000
END:STANDARD
BEGIN:DAYLIGHT
TZNAME:MDT
DTSTART:20230312T020000
TZOFFSETFROM:-0700
TZOFFSETTO:-0600
RDATE:20240310T020000
RDATE:20250309T020000
END:DAYLIGHT
END:VTIMEZONE
BEGIN:VEVENT
UID:98206f2b-6384-4ae6-8fdb-e8d9bfe52cda
DTSTAMP:20260425T145306Z
DESCRIPTION:
DTSTART;TZID=America/Denver:20240117T100000
DTEND;TZID=America/Denver:20240117T120000
LOCATION:
SUMMARY:WellPower
END:VEVENT
END:VCALENDAR
