BEGIN:VCALENDAR
VERSION:2.0
PRODID:-//tgpdenver.org//NONSGML kigkonsult.se iCalcreator 2.30.10//
CALSCALE:GREGORIAN
METHOD:PUBLISH
UID:a6852cee-187b-4b46-92f5-100354d395fd
X-WR-CALDESC:Suboxone\, Substance Use Support
X-WR-RELCALID:9da70fcd1486c516f16adab88797c1f1
X-WR-TIMEZONE:America/Denver
BEGIN:VTIMEZONE
TZID:America/Denver
BEGIN:STANDARD
TZNAME:MST
DTSTART:20231105T020000
TZOFFSETFROM:-0600
TZOFFSETTO:-0700
RDATE:20241103T020000
END:STANDARD
BEGIN:DAYLIGHT
TZNAME:MDT
DTSTART:20230312T020000
TZOFFSETFROM:-0700
TZOFFSETTO:-0600
RDATE:20240310T020000
RDATE:20250309T020000
END:DAYLIGHT
END:VTIMEZONE
BEGIN:VEVENT
UID:4fd8dc7f-d235-4e5e-b27d-f508d2a23701
DTSTAMP:20260425T145608Z
DESCRIPTION:Suboxone\, Substance Use Support
DTSTART;TZID=America/Denver:20240129T100000
DTEND;TZID=America/Denver:20240129T110000
LOCATION:Foyer
SUMMARY:Medication Assisted Treatment
END:VEVENT
END:VCALENDAR
