BEGIN:VCALENDAR
VERSION:2.0
PRODID:-//tgpdenver.org//NONSGML kigkonsult.se iCalcreator 2.30.10//
CALSCALE:GREGORIAN
METHOD:PUBLISH
UID:e253e698-530e-42a3-bce7-94b1c42ecc6b
X-WR-CALDESC:
X-WR-RELCALID:b5e938fea1c2b53afcad87e64c25cc6b
X-WR-TIMEZONE:America/Denver
BEGIN:VTIMEZONE
TZID:America/Denver
BEGIN:STANDARD
TZNAME:MST
DTSTART:20231105T020000
TZOFFSETFROM:-0600
TZOFFSETTO:-0700
RDATE:20241103T020000
END:STANDARD
BEGIN:DAYLIGHT
TZNAME:MDT
DTSTART:20230312T020000
TZOFFSETFROM:-0700
TZOFFSETTO:-0600
RDATE:20240310T020000
RDATE:20250309T020000
END:DAYLIGHT
END:VTIMEZONE
BEGIN:VEVENT
UID:677998e8-0780-4afc-be36-7d7b7f1e8e1b
DTSTAMP:20260425T145352Z
DESCRIPTION:
DTSTART;TZID=America/Denver:20240131T100000
DTEND;TZID=America/Denver:20240131T120000
LOCATION:
SUMMARY:WellPower
END:VEVENT
END:VCALENDAR
