BEGIN:VCALENDAR
VERSION:2.0
PRODID:-//tgpdenver.org//NONSGML kigkonsult.se iCalcreator 2.30.10//
CALSCALE:GREGORIAN
METHOD:PUBLISH
UID:bbafb02c-4e23-4503-a99b-b13880713722
X-WR-CALDESC:Supplies and art studio space open to all members to create an
 y project or craft.
X-WR-RELCALID:3e1a87ec0a9093b9f525a6bbc29632b0
X-WR-TIMEZONE:America/Denver
BEGIN:VTIMEZONE
TZID:America/Denver
BEGIN:STANDARD
TZNAME:MST
DTSTART:20231105T020000
TZOFFSETFROM:-0600
TZOFFSETTO:-0700
RDATE:20241103T020000
END:STANDARD
BEGIN:DAYLIGHT
TZNAME:MDT
DTSTART:20230312T020000
TZOFFSETFROM:-0700
TZOFFSETTO:-0600
RDATE:20240310T020000
RDATE:20250309T020000
END:DAYLIGHT
END:VTIMEZONE
BEGIN:VEVENT
UID:196bb721-4d41-49de-9448-8c17a76ed2a5
DTSTAMP:20260425T130145Z
DESCRIPTION:Supplies and art studio space open to all members to create any
  project or craft.
DTSTART;TZID=America/Denver:20240205T090000
DTEND;TZID=America/Denver:20240205T120000
LOCATION:3rd floor art studio
SUMMARY:Open studio
END:VEVENT
END:VCALENDAR
