BEGIN:VCALENDAR
VERSION:2.0
PRODID:-//tgpdenver.org//NONSGML kigkonsult.se iCalcreator 2.30.10//
CALSCALE:GREGORIAN
METHOD:PUBLISH
UID:9b3f26d9-c172-4459-933d-7a7e8dec1b05
X-WR-CALDESC:
X-WR-RELCALID:9a946ca4fe9062ac25e839d13f402d5e
X-WR-TIMEZONE:America/Denver
BEGIN:VTIMEZONE
TZID:America/Denver
BEGIN:STANDARD
TZNAME:MST
DTSTART:20231105T020000
TZOFFSETFROM:-0600
TZOFFSETTO:-0700
RDATE:20241103T020000
END:STANDARD
BEGIN:DAYLIGHT
TZNAME:MDT
DTSTART:20230312T020000
TZOFFSETFROM:-0700
TZOFFSETTO:-0600
RDATE:20240310T020000
RDATE:20250309T020000
END:DAYLIGHT
END:VTIMEZONE
BEGIN:VEVENT
UID:4833f445-860d-40ed-97db-1e1495fd9ca0
DTSTAMP:20260425T130421Z
DESCRIPTION:
DTSTART;TZID=America/Denver:20240207T100000
DTEND;TZID=America/Denver:20240207T120000
LOCATION:
SUMMARY:WellPower
END:VEVENT
END:VCALENDAR
