BEGIN:VCALENDAR
VERSION:2.0
PRODID:-//tgpdenver.org//NONSGML kigkonsult.se iCalcreator 2.30.10//
CALSCALE:GREGORIAN
METHOD:PUBLISH
UID:707e103c-5f04-4722-8934-875754fbd668
X-WR-CALDESC:
X-WR-RELCALID:d7251b0cdb7909de3bfb77ae5c214615
X-WR-TIMEZONE:America/Denver
BEGIN:VTIMEZONE
TZID:America/Denver
BEGIN:STANDARD
TZNAME:MST
DTSTART:20231105T020000
TZOFFSETFROM:-0600
TZOFFSETTO:-0700
RDATE:20241103T020000
END:STANDARD
BEGIN:DAYLIGHT
TZNAME:MDT
DTSTART:20230312T020000
TZOFFSETFROM:-0700
TZOFFSETTO:-0600
RDATE:20240310T020000
RDATE:20250309T020000
END:DAYLIGHT
END:VTIMEZONE
BEGIN:VEVENT
UID:381be4fc-f0a6-40f0-9fd7-dc6212db8741
DTSTAMP:20260425T130256Z
DESCRIPTION:
DTSTART;TZID=America/Denver:20240221T100000
DTEND;TZID=America/Denver:20240221T120000
LOCATION:
SUMMARY:WellPower
END:VEVENT
END:VCALENDAR
