BEGIN:VCALENDAR
VERSION:2.0
PRODID:-//tgpdenver.org//NONSGML kigkonsult.se iCalcreator 2.30.10//
CALSCALE:GREGORIAN
METHOD:PUBLISH
UID:d213903d-fbd6-4a54-9df1-91890cbade65
X-WR-CALDESC:Simple\, guided clay projects for beginners.
X-WR-RELCALID:a9561c5216583683d171d1a70d14c9de
X-WR-TIMEZONE:America/Denver
BEGIN:VTIMEZONE
TZID:America/Denver
BEGIN:STANDARD
TZNAME:MST
DTSTART:20231105T020000
TZOFFSETFROM:-0600
TZOFFSETTO:-0700
RDATE:20241103T020000
END:STANDARD
BEGIN:DAYLIGHT
TZNAME:MDT
DTSTART:20230312T020000
TZOFFSETFROM:-0700
TZOFFSETTO:-0600
RDATE:20240310T020000
RDATE:20250309T020000
END:DAYLIGHT
END:VTIMEZONE
BEGIN:VEVENT
UID:b2cd44d9-56f5-4500-87ae-858c1faa97f9
DTSTAMP:20260425T130243Z
DESCRIPTION:Simple\, guided clay projects for beginners.
DTSTART;TZID=America/Denver:20240223T100000
DTEND;TZID=America/Denver:20240223T120000
LOCATION:3rd floor art studio
SUMMARY:clay class
END:VEVENT
END:VCALENDAR
