BEGIN:VCALENDAR
VERSION:2.0
PRODID:-//tgpdenver.org//NONSGML kigkonsult.se iCalcreator 2.30.10//
CALSCALE:GREGORIAN
METHOD:PUBLISH
UID:0c9eb4d8-e83b-4a10-9e20-468502ba3021
X-WR-CALDESC:Grupo social para conectarse\, sanar\, y aprender juntos. El p
 rograma busca crear un espacio seguro para nuestros miembros latines para 
 encontrar comunidad\, apoyo y bienestar mientras honran su propia verdad.
X-WR-RELCALID:7828544dfba2f2d73353e18359b279b7
X-WR-TIMEZONE:America/Denver
BEGIN:VTIMEZONE
TZID:America/Denver
BEGIN:STANDARD
TZNAME:MST
DTSTART:20231105T020000
TZOFFSETFROM:-0600
TZOFFSETTO:-0700
RDATE:20241103T020000
END:STANDARD
BEGIN:DAYLIGHT
TZNAME:MDT
DTSTART:20230312T020000
TZOFFSETFROM:-0700
TZOFFSETTO:-0600
RDATE:20240310T020000
RDATE:20250309T020000
END:DAYLIGHT
END:VTIMEZONE
BEGIN:VEVENT
UID:bfe8782c-6129-4cea-97d4-344b111a1dd3
DTSTAMP:20260425T131943Z
DESCRIPTION:Grupo social para conectarse\, sanar\, y aprender juntos. El pr
 ograma busca crear un espacio seguro para nuestros miembros latines para e
 ncontrar comunidad\, apoyo y bienestar mientras honran su propia verdad.
DTSTART;TZID=America/Denver:20240223T130000
DTEND;TZID=America/Denver:20240223T140000
LOCATION:Estudio de Arte\, 3er piso
SUMMARY:La Cultura Cura
END:VEVENT
END:VCALENDAR
