BEGIN:VCALENDAR
VERSION:2.0
PRODID:-//tgpdenver.org//NONSGML kigkonsult.se iCalcreator 2.30.10//
CALSCALE:GREGORIAN
METHOD:PUBLISH
UID:257cc4ce-2ca5-4cc0-ba5c-9bcdbfcacde6
X-WR-CALDESC:
X-WR-RELCALID:1f233531a596ab0a55fc18c98c54b780
X-WR-TIMEZONE:America/Denver
BEGIN:VTIMEZONE
TZID:America/Denver
BEGIN:STANDARD
TZNAME:MST
DTSTART:20231105T020000
TZOFFSETFROM:-0600
TZOFFSETTO:-0700
RDATE:20241103T020000
END:STANDARD
BEGIN:DAYLIGHT
TZNAME:MDT
DTSTART:20230312T020000
TZOFFSETFROM:-0700
TZOFFSETTO:-0600
RDATE:20240310T020000
RDATE:20250309T020000
END:DAYLIGHT
END:VTIMEZONE
BEGIN:VEVENT
UID:399916c0-19f8-4386-92c9-ff8a790c830d
DTSTAMP:20260425T130422Z
DESCRIPTION:
DTSTART;TZID=America/Denver:20240228T100000
DTEND;TZID=America/Denver:20240228T120000
LOCATION:
SUMMARY:WellPower
END:VEVENT
END:VCALENDAR
