BEGIN:VCALENDAR
VERSION:2.0
PRODID:-//tgpdenver.org//NONSGML kigkonsult.se iCalcreator 2.30.10//
CALSCALE:GREGORIAN
METHOD:PUBLISH
UID:1747522a-4c6d-42db-9d7e-b521e2af64d3
X-WR-CALDESC:
X-WR-RELCALID:e98d14861bebde06745157c358939143
X-WR-TIMEZONE:America/Denver
BEGIN:VTIMEZONE
TZID:America/Denver
BEGIN:STANDARD
TZNAME:MST
DTSTART:20231105T020000
TZOFFSETFROM:-0600
TZOFFSETTO:-0700
RDATE:20241103T020000
END:STANDARD
BEGIN:DAYLIGHT
TZNAME:MDT
DTSTART:20240310T020000
TZOFFSETFROM:-0700
TZOFFSETTO:-0600
RDATE:20250309T020000
END:DAYLIGHT
END:VTIMEZONE
BEGIN:VEVENT
UID:43a25f5c-69c0-4237-a849-40b6cc9fc335
DTSTAMP:20260425T112925Z
DESCRIPTION:
DTSTART;TZID=America/Denver:20240313T100000
DTEND;TZID=America/Denver:20240313T120000
LOCATION:
SUMMARY:WellPower
END:VEVENT
END:VCALENDAR
