BEGIN:VCALENDAR
VERSION:2.0
PRODID:-//tgpdenver.org//NONSGML kigkonsult.se iCalcreator 2.30.10//
CALSCALE:GREGORIAN
METHOD:PUBLISH
UID:2097c4c5-fa7a-4895-a59b-1b489108fde7
X-WR-CALDESC:Simple\, guided clay projects for beginners.
X-WR-RELCALID:be6f6a7eab89329f38c3f82ca2f643a0
X-WR-TIMEZONE:America/Denver
BEGIN:VTIMEZONE
TZID:America/Denver
BEGIN:STANDARD
TZNAME:MST
DTSTART:20231105T020000
TZOFFSETFROM:-0600
TZOFFSETTO:-0700
RDATE:20241103T020000
END:STANDARD
BEGIN:DAYLIGHT
TZNAME:MDT
DTSTART:20240310T020000
TZOFFSETFROM:-0700
TZOFFSETTO:-0600
RDATE:20250309T020000
END:DAYLIGHT
END:VTIMEZONE
BEGIN:VEVENT
UID:31b354ef-1b8c-46f8-863b-2b3120a793a4
DTSTAMP:20260425T112559Z
DESCRIPTION:Simple\, guided clay projects for beginners.
DTSTART;TZID=America/Denver:20240315T100000
DTEND;TZID=America/Denver:20240315T120000
LOCATION:3rd floor art studio
SUMMARY:clay class
END:VEVENT
END:VCALENDAR
