BEGIN:VCALENDAR
VERSION:2.0
PRODID:-//tgpdenver.org//NONSGML kigkonsult.se iCalcreator 2.30.10//
CALSCALE:GREGORIAN
METHOD:PUBLISH
UID:fb155b05-72da-4aa2-bf68-81a230804c8c
X-WR-CALDESC:Grupo social para conectarse\, sanar\, y aprender juntos. El p
 rograma busca crear un espacio seguro para nuestros miembros latines para 
 encontrar comunidad\, apoyo y bienestar mientras honran su propia verdad.
X-WR-RELCALID:72b3d111cded1d2d741d5b12f0571b7c
X-WR-TIMEZONE:America/Denver
BEGIN:VTIMEZONE
TZID:America/Denver
BEGIN:STANDARD
TZNAME:MST
DTSTART:20231105T020000
TZOFFSETFROM:-0600
TZOFFSETTO:-0700
RDATE:20241103T020000
END:STANDARD
BEGIN:DAYLIGHT
TZNAME:MDT
DTSTART:20240310T020000
TZOFFSETFROM:-0700
TZOFFSETTO:-0600
RDATE:20250309T020000
END:DAYLIGHT
END:VTIMEZONE
BEGIN:VEVENT
UID:32bc6f34-39b3-4444-9162-c25f1bc0638d
DTSTAMP:20260425T113233Z
DESCRIPTION:Grupo social para conectarse\, sanar\, y aprender juntos. El pr
 ograma busca crear un espacio seguro para nuestros miembros latines para e
 ncontrar comunidad\, apoyo y bienestar mientras honran su propia verdad.
DTSTART;TZID=America/Denver:20240315T130000
DTEND;TZID=America/Denver:20240315T140000
LOCATION:Estudio de Arte\, 3er piso
SUMMARY:La Cultura Cura
END:VEVENT
END:VCALENDAR
