BEGIN:VCALENDAR
VERSION:2.0
PRODID:-//tgpdenver.org//NONSGML kigkonsult.se iCalcreator 2.30.10//
CALSCALE:GREGORIAN
METHOD:PUBLISH
UID:5e84b738-6393-435b-90a3-f9de84db3596
X-WR-CALDESC:
X-WR-RELCALID:a6731f30520cf0c5a068f1fd9e214f57
X-WR-TIMEZONE:America/Denver
BEGIN:VTIMEZONE
TZID:America/Denver
BEGIN:STANDARD
TZNAME:MST
DTSTART:20231105T020000
TZOFFSETFROM:-0600
TZOFFSETTO:-0700
RDATE:20241103T020000
END:STANDARD
BEGIN:DAYLIGHT
TZNAME:MDT
DTSTART:20240310T020000
TZOFFSETFROM:-0700
TZOFFSETTO:-0600
RDATE:20250309T020000
END:DAYLIGHT
END:VTIMEZONE
BEGIN:VEVENT
UID:a0a9311a-d285-499c-93ae-a393e8c1f92b
DTSTAMP:20260425T112726Z
DESCRIPTION:
DTSTART;TZID=America/Denver:20240320T100000
DTEND;TZID=America/Denver:20240320T120000
LOCATION:
SUMMARY:WellPower
END:VEVENT
END:VCALENDAR
