BEGIN:VCALENDAR
VERSION:2.0
PRODID:-//tgpdenver.org//NONSGML kigkonsult.se iCalcreator 2.30.10//
CALSCALE:GREGORIAN
METHOD:PUBLISH
UID:cff29607-8615-4910-8eef-4177072e081e
X-WR-CALDESC:Suboxone\, Substance Use Support
X-WR-RELCALID:dadbf0ddafaffeabe0c3ece24355c7eb
X-WR-TIMEZONE:America/Denver
BEGIN:VTIMEZONE
TZID:America/Denver
BEGIN:STANDARD
TZNAME:MST
DTSTART:20231105T020000
TZOFFSETFROM:-0600
TZOFFSETTO:-0700
RDATE:20241103T020000
END:STANDARD
BEGIN:DAYLIGHT
TZNAME:MDT
DTSTART:20240310T020000
TZOFFSETFROM:-0700
TZOFFSETTO:-0600
RDATE:20250309T020000
END:DAYLIGHT
END:VTIMEZONE
BEGIN:VEVENT
UID:99d4b6d7-d188-4344-8033-944ee4c0b426
DTSTAMP:20260425T113046Z
DESCRIPTION:Suboxone\, Substance Use Support
DTSTART;TZID=America/Denver:20240325T100000
DTEND;TZID=America/Denver:20240325T110000
LOCATION:Foyer
SUMMARY:Medication Assisted Treatment
END:VEVENT
END:VCALENDAR
