BEGIN:VCALENDAR
VERSION:2.0
PRODID:-//tgpdenver.org//NONSGML kigkonsult.se iCalcreator 2.30.10//
CALSCALE:GREGORIAN
METHOD:PUBLISH
UID:f1d49299-d3d3-4eed-a9df-0987efe5f6c8
X-WR-CALDESC:
X-WR-RELCALID:faac1b6690442c452ead8cbb83dbeca2
X-WR-TIMEZONE:America/Denver
BEGIN:VTIMEZONE
TZID:America/Denver
BEGIN:STANDARD
TZNAME:MST
DTSTART:20231105T020000
TZOFFSETFROM:-0600
TZOFFSETTO:-0700
RDATE:20241103T020000
END:STANDARD
BEGIN:DAYLIGHT
TZNAME:MDT
DTSTART:20240310T020000
TZOFFSETFROM:-0700
TZOFFSETTO:-0600
RDATE:20250309T020000
END:DAYLIGHT
END:VTIMEZONE
BEGIN:VEVENT
UID:11f47096-d516-4090-a890-908eb7ff2a3e
DTSTAMP:20260425T112923Z
DESCRIPTION:
DTSTART;TZID=America/Denver:20240327T100000
DTEND;TZID=America/Denver:20240327T120000
LOCATION:
SUMMARY:WellPower
END:VEVENT
END:VCALENDAR
