BEGIN:VCALENDAR
VERSION:2.0
PRODID:-//tgpdenver.org//NONSGML kigkonsult.se iCalcreator 2.30.10//
CALSCALE:GREGORIAN
METHOD:PUBLISH
UID:b3521455-3d7c-402f-8fbc-41be9f1bf775
X-WR-CALDESC:
X-WR-RELCALID:358ee0501aed3be05d35412a1ff8cba3
X-WR-TIMEZONE:America/Denver
BEGIN:VTIMEZONE
TZID:America/Denver
BEGIN:STANDARD
TZNAME:MST
DTSTART:20231105T020000
TZOFFSETFROM:-0600
TZOFFSETTO:-0700
RDATE:20241103T020000
RDATE:20251102T020000
END:STANDARD
BEGIN:DAYLIGHT
TZNAME:MDT
DTSTART:20240310T020000
TZOFFSETFROM:-0700
TZOFFSETTO:-0600
RDATE:20250309T020000
END:DAYLIGHT
END:VTIMEZONE
BEGIN:VEVENT
UID:4e26caf1-0ed3-4286-ae35-469247c323ef
DTSTAMP:20260425T034441Z
DESCRIPTION:
DTSTART;TZID=America/Denver:20240710T100000
DTEND;TZID=America/Denver:20240710T120000
LOCATION:
SUMMARY:WellPower
END:VEVENT
END:VCALENDAR
