BEGIN:VCALENDAR
VERSION:2.0
PRODID:-//tgpdenver.org//NONSGML kigkonsult.se iCalcreator 2.30.10//
CALSCALE:GREGORIAN
METHOD:PUBLISH
UID:f90e1b8a-ad76-45dc-8a01-bbd92525ed88
X-WR-CALDESC:
X-WR-RELCALID:55686e66e183e90f764ee03c5f17da3d
X-WR-TIMEZONE:America/Denver
BEGIN:VTIMEZONE
TZID:America/Denver
BEGIN:STANDARD
TZNAME:MST
DTSTART:20231105T020000
TZOFFSETFROM:-0600
TZOFFSETTO:-0700
RDATE:20241103T020000
RDATE:20251102T020000
END:STANDARD
BEGIN:DAYLIGHT
TZNAME:MDT
DTSTART:20240310T020000
TZOFFSETFROM:-0700
TZOFFSETTO:-0600
RDATE:20250309T020000
END:DAYLIGHT
END:VTIMEZONE
BEGIN:VEVENT
UID:3b4e4318-807d-4ce2-a510-0bcc54961ce9
DTSTAMP:20260425T034611Z
DESCRIPTION:
DTSTART;TZID=America/Denver:20240717T100000
DTEND;TZID=America/Denver:20240717T120000
LOCATION:
SUMMARY:WellPower
END:VEVENT
END:VCALENDAR
