BEGIN:VCALENDAR
VERSION:2.0
PRODID:-//tgpdenver.org//NONSGML kigkonsult.se iCalcreator 2.30.10//
CALSCALE:GREGORIAN
METHOD:PUBLISH
UID:812a519e-e5bc-4a61-8d89-2e8666620d8c
X-WR-CALDESC:Suboxone\, Substance Use Support
X-WR-RELCALID:c03de8c0df6a3b1ff28304ebe4cbf31b
X-WR-TIMEZONE:America/Denver
BEGIN:VTIMEZONE
TZID:America/Denver
BEGIN:STANDARD
TZNAME:MST
DTSTART:20231105T020000
TZOFFSETFROM:-0600
TZOFFSETTO:-0700
RDATE:20241103T020000
RDATE:20251102T020000
END:STANDARD
BEGIN:DAYLIGHT
TZNAME:MDT
DTSTART:20240310T020000
TZOFFSETFROM:-0700
TZOFFSETTO:-0600
RDATE:20250309T020000
END:DAYLIGHT
END:VTIMEZONE
BEGIN:VEVENT
UID:2e7523d6-fa05-4cd6-a662-d1e1acc44acb
DTSTAMP:20260425T034707Z
DESCRIPTION:Suboxone\, Substance Use Support
DTSTART;TZID=America/Denver:20240722T100000
DTEND;TZID=America/Denver:20240722T110000
LOCATION:Foyer
SUMMARY:Medication Assisted Treatment
END:VEVENT
END:VCALENDAR
