BEGIN:VCALENDAR
VERSION:2.0
PRODID:-//tgpdenver.org//NONSGML kigkonsult.se iCalcreator 2.30.10//
CALSCALE:GREGORIAN
METHOD:PUBLISH
UID:2c414fa2-7914-40e2-89de-19a2f159a852
X-WR-CALDESC:
X-WR-RELCALID:a5126ff88f82a04bc2feabdbd047bbd6
X-WR-TIMEZONE:America/Denver
BEGIN:VTIMEZONE
TZID:America/Denver
BEGIN:STANDARD
TZNAME:MST
DTSTART:20231105T020000
TZOFFSETFROM:-0600
TZOFFSETTO:-0700
RDATE:20241103T020000
RDATE:20251102T020000
END:STANDARD
BEGIN:DAYLIGHT
TZNAME:MDT
DTSTART:20240310T020000
TZOFFSETFROM:-0700
TZOFFSETTO:-0600
RDATE:20250309T020000
END:DAYLIGHT
END:VTIMEZONE
BEGIN:VEVENT
UID:8a66c86f-630c-465b-aba7-23fc5984890b
DTSTAMP:20260425T034440Z
DESCRIPTION:
DTSTART;TZID=America/Denver:20240731T100000
DTEND;TZID=America/Denver:20240731T120000
LOCATION:
SUMMARY:WellPower
END:VEVENT
END:VCALENDAR
