BEGIN:VCALENDAR
VERSION:2.0
PRODID:-//tgpdenver.org//NONSGML kigkonsult.se iCalcreator 2.30.10//
CALSCALE:GREGORIAN
METHOD:PUBLISH
UID:bfddfab0-67c3-4b0b-a9a4-8d652b3f92b9
X-WR-CALDESC:Suboxone\, Substance Use Support
X-WR-RELCALID:7c94be7b3343d5b255f96dd4557f11cd
X-WR-TIMEZONE:America/Denver
BEGIN:VTIMEZONE
TZID:America/Denver
BEGIN:STANDARD
TZNAME:MST
DTSTART:20231105T020000
TZOFFSETFROM:-0600
TZOFFSETTO:-0700
RDATE:20241103T020000
RDATE:20251102T020000
END:STANDARD
BEGIN:DAYLIGHT
TZNAME:MDT
DTSTART:20240310T020000
TZOFFSETFROM:-0700
TZOFFSETTO:-0600
RDATE:20250309T020000
END:DAYLIGHT
END:VTIMEZONE
BEGIN:VEVENT
UID:317f7649-10dd-49b3-8009-2ec79d0913bd
DTSTAMP:20260425T015030Z
DESCRIPTION:Suboxone\, Substance Use Support
DTSTART;TZID=America/Denver:20240805T100000
DTEND;TZID=America/Denver:20240805T110000
LOCATION:Foyer
SUMMARY:Medication Assisted Treatment
END:VEVENT
END:VCALENDAR
