BEGIN:VCALENDAR
VERSION:2.0
PRODID:-//tgpdenver.org//NONSGML kigkonsult.se iCalcreator 2.30.10//
CALSCALE:GREGORIAN
METHOD:PUBLISH
UID:366dac98-2686-4978-a13f-f793eea9292b
X-WR-CALDESC:Clinicians from Stout Street Clinic HOP visit to help with bas
 ic health needs. First come\, first served.
X-WR-RELCALID:bcb9a27687f79e5365b9ca3e406e9d0f
X-WR-TIMEZONE:America/Denver
BEGIN:VTIMEZONE
TZID:America/Denver
BEGIN:STANDARD
TZNAME:MST
DTSTART:20231105T020000
TZOFFSETFROM:-0600
TZOFFSETTO:-0700
RDATE:20241103T020000
RDATE:20251102T020000
END:STANDARD
BEGIN:DAYLIGHT
TZNAME:MDT
DTSTART:20240310T020000
TZOFFSETFROM:-0700
TZOFFSETTO:-0600
RDATE:20250309T020000
END:DAYLIGHT
END:VTIMEZONE
BEGIN:VEVENT
UID:b44731b5-d7e3-45bb-8e4a-35baf0f5a442
DTSTAMP:20260425T015226Z
DESCRIPTION:Clinicians from Stout Street Clinic HOP visit to help with basi
 c health needs. First come\, first served.
DTSTART;TZID=America/Denver:20240807T090000
DTEND;TZID=America/Denver:20240807T130000
LOCATION:Wellness Area\, 1st Floor
SUMMARY:Stout St. Health Outreach Program
END:VEVENT
END:VCALENDAR
