BEGIN:VCALENDAR
VERSION:2.0
PRODID:-//tgpdenver.org//NONSGML kigkonsult.se iCalcreator 2.30.10//
CALSCALE:GREGORIAN
METHOD:PUBLISH
UID:fb89584b-2369-4616-9d0a-798f1cd2b7b7
X-WR-CALDESC:Simple\, guided clay projects for beginners.
X-WR-RELCALID:0dde67820f2424325c30a77f9e2340ca
X-WR-TIMEZONE:America/Denver
BEGIN:VTIMEZONE
TZID:America/Denver
BEGIN:STANDARD
TZNAME:MST
DTSTART:20231105T020000
TZOFFSETFROM:-0600
TZOFFSETTO:-0700
RDATE:20241103T020000
RDATE:20251102T020000
END:STANDARD
BEGIN:DAYLIGHT
TZNAME:MDT
DTSTART:20240310T020000
TZOFFSETFROM:-0700
TZOFFSETTO:-0600
RDATE:20250309T020000
END:DAYLIGHT
END:VTIMEZONE
BEGIN:VEVENT
UID:15450f0e-85e7-44c5-9573-3aee8125276f
DTSTAMP:20260425T014713Z
DESCRIPTION:Simple\, guided clay projects for beginners.
DTSTART;TZID=America/Denver:20240809T100000
DTEND;TZID=America/Denver:20240809T120000
LOCATION:3rd floor art studio
SUMMARY:clay class
END:VEVENT
END:VCALENDAR
