BEGIN:VCALENDAR
VERSION:2.0
PRODID:-//tgpdenver.org//NONSGML kigkonsult.se iCalcreator 2.30.10//
CALSCALE:GREGORIAN
METHOD:PUBLISH
UID:afb2bded-6c93-435e-baf6-f14118ad2394
X-WR-CALDESC:
X-WR-RELCALID:7479d9d4b2bb37f68b701d3587b4a53c
X-WR-TIMEZONE:America/Denver
BEGIN:VTIMEZONE
TZID:America/Denver
BEGIN:STANDARD
TZNAME:MST
DTSTART:20231105T020000
TZOFFSETFROM:-0600
TZOFFSETTO:-0700
RDATE:20241103T020000
RDATE:20251102T020000
END:STANDARD
BEGIN:DAYLIGHT
TZNAME:MDT
DTSTART:20240310T020000
TZOFFSETFROM:-0700
TZOFFSETTO:-0600
RDATE:20250309T020000
END:DAYLIGHT
END:VTIMEZONE
BEGIN:VEVENT
UID:6ff4a5d4-d8b1-46c8-b717-a912012f3276
DTSTAMP:20260425T014850Z
DESCRIPTION:
DTSTART;TZID=America/Denver:20240814T100000
DTEND;TZID=America/Denver:20240814T120000
LOCATION:
SUMMARY:WellPower
END:VEVENT
END:VCALENDAR
