BEGIN:VCALENDAR
VERSION:2.0
PRODID:-//tgpdenver.org//NONSGML kigkonsult.se iCalcreator 2.30.10//
CALSCALE:GREGORIAN
METHOD:PUBLISH
UID:3b3f8740-62ad-43f3-b623-fc1eedd0b48a
X-WR-CALDESC:Grupo social para conectarse\, sanar\, y aprender juntos. El p
 rograma busca crear un espacio seguro para nuestros miembros latines para 
 encontrar comunidad\, apoyo y bienestar mientras honran su propia verdad.
X-WR-RELCALID:8907994bda1c59314506025b55852bf3
X-WR-TIMEZONE:America/Denver
BEGIN:VTIMEZONE
TZID:America/Denver
BEGIN:STANDARD
TZNAME:MST
DTSTART:20231105T020000
TZOFFSETFROM:-0600
TZOFFSETTO:-0700
RDATE:20241103T020000
RDATE:20251102T020000
END:STANDARD
BEGIN:DAYLIGHT
TZNAME:MDT
DTSTART:20240310T020000
TZOFFSETFROM:-0700
TZOFFSETTO:-0600
RDATE:20250309T020000
END:DAYLIGHT
END:VTIMEZONE
BEGIN:VEVENT
UID:158eb1d6-c63c-4d32-913f-a4aaf6e5402c
DTSTAMP:20260425T015245Z
DESCRIPTION:Grupo social para conectarse\, sanar\, y aprender juntos. El pr
 ograma busca crear un espacio seguro para nuestros miembros latines para e
 ncontrar comunidad\, apoyo y bienestar mientras honran su propia verdad.
DTSTART;TZID=America/Denver:20240816T130000
DTEND;TZID=America/Denver:20240816T140000
LOCATION:Estudio de Arte\, 3er piso
SUMMARY:La Cultura Cura
END:VEVENT
END:VCALENDAR
