BEGIN:VCALENDAR
VERSION:2.0
PRODID:-//tgpdenver.org//NONSGML kigkonsult.se iCalcreator 2.30.10//
CALSCALE:GREGORIAN
METHOD:PUBLISH
UID:6f04ec11-c368-452e-ac28-83ccecd72496
X-WR-CALDESC:Supplies and art studio space open to all members to create an
 y project or craft.
X-WR-RELCALID:81ac1ddb28fb50040c94327f63dd3312
X-WR-TIMEZONE:America/Denver
BEGIN:VTIMEZONE
TZID:America/Denver
BEGIN:STANDARD
TZNAME:MST
DTSTART:20231105T020000
TZOFFSETFROM:-0600
TZOFFSETTO:-0700
RDATE:20241103T020000
RDATE:20251102T020000
END:STANDARD
BEGIN:DAYLIGHT
TZNAME:MDT
DTSTART:20240310T020000
TZOFFSETFROM:-0700
TZOFFSETTO:-0600
RDATE:20250309T020000
END:DAYLIGHT
END:VTIMEZONE
BEGIN:VEVENT
UID:5e1f1b3b-5c80-46ac-8ee9-9d3195c93aaa
DTSTAMP:20260425T014341Z
DESCRIPTION:Supplies and art studio space open to all members to create any
  project or craft.
DTSTART;TZID=America/Denver:20240819T090000
DTEND;TZID=America/Denver:20240819T120000
LOCATION:3rd floor art studio
SUMMARY:Open studio
END:VEVENT
END:VCALENDAR
