BEGIN:VCALENDAR
VERSION:2.0
PRODID:-//tgpdenver.org//NONSGML kigkonsult.se iCalcreator 2.30.10//
CALSCALE:GREGORIAN
METHOD:PUBLISH
UID:fff608e3-b1a2-4aca-a2c1-e19657e34683
X-WR-CALDESC:Suboxone\, Substance Use Support
X-WR-RELCALID:2a358338557c006da2d2a6ad522f775c
X-WR-TIMEZONE:America/Denver
BEGIN:VTIMEZONE
TZID:America/Denver
BEGIN:STANDARD
TZNAME:MST
DTSTART:20231105T020000
TZOFFSETFROM:-0600
TZOFFSETTO:-0700
RDATE:20241103T020000
RDATE:20251102T020000
END:STANDARD
BEGIN:DAYLIGHT
TZNAME:MDT
DTSTART:20240310T020000
TZOFFSETFROM:-0700
TZOFFSETTO:-0600
RDATE:20250309T020000
END:DAYLIGHT
END:VTIMEZONE
BEGIN:VEVENT
UID:d15a7df2-6fff-4c7a-a55a-0bd5a4a681a7
DTSTAMP:20260425T015107Z
DESCRIPTION:Suboxone\, Substance Use Support
DTSTART;TZID=America/Denver:20240819T100000
DTEND;TZID=America/Denver:20240819T110000
LOCATION:Foyer
SUMMARY:Medication Assisted Treatment
END:VEVENT
END:VCALENDAR
