BEGIN:VCALENDAR
VERSION:2.0
PRODID:-//tgpdenver.org//NONSGML kigkonsult.se iCalcreator 2.30.10//
CALSCALE:GREGORIAN
METHOD:PUBLISH
UID:8a59c335-d7ac-4648-8860-77d4c2027375
X-WR-CALDESC:
X-WR-RELCALID:09e22e23ef5a03caea1ea0937141661c
X-WR-TIMEZONE:America/Denver
BEGIN:VTIMEZONE
TZID:America/Denver
BEGIN:STANDARD
TZNAME:MST
DTSTART:20231105T020000
TZOFFSETFROM:-0600
TZOFFSETTO:-0700
RDATE:20241103T020000
RDATE:20251102T020000
END:STANDARD
BEGIN:DAYLIGHT
TZNAME:MDT
DTSTART:20240310T020000
TZOFFSETFROM:-0700
TZOFFSETTO:-0600
RDATE:20250309T020000
END:DAYLIGHT
END:VTIMEZONE
BEGIN:VEVENT
UID:9b849f47-7b8e-4358-a15b-4624869e629d
DTSTAMP:20260425T014232Z
DESCRIPTION:
DTSTART;TZID=America/Denver:20240821T100000
DTEND;TZID=America/Denver:20240821T120000
LOCATION:
SUMMARY:WellPower
END:VEVENT
END:VCALENDAR
