BEGIN:VCALENDAR
VERSION:2.0
PRODID:-//tgpdenver.org//NONSGML kigkonsult.se iCalcreator 2.30.10//
CALSCALE:GREGORIAN
METHOD:PUBLISH
UID:f6d79cd7-89f7-428f-a199-da04d7d4cc71
X-WR-CALDESC:
X-WR-RELCALID:4a771c21c4253e58ab01d0b4d2d9b39e
X-WR-TIMEZONE:America/Denver
BEGIN:VTIMEZONE
TZID:America/Denver
BEGIN:STANDARD
TZNAME:MST
DTSTART:20231105T020000
TZOFFSETFROM:-0600
TZOFFSETTO:-0700
RDATE:20241103T020000
RDATE:20251102T020000
END:STANDARD
BEGIN:DAYLIGHT
TZNAME:MDT
DTSTART:20240310T020000
TZOFFSETFROM:-0700
TZOFFSETTO:-0600
RDATE:20250309T020000
END:DAYLIGHT
END:VTIMEZONE
BEGIN:VEVENT
UID:cb275f0e-f96c-4168-b4d1-aa89c71bb3f8
DTSTAMP:20260424T234941Z
DESCRIPTION:
DTSTART;TZID=America/Denver:20240902T040000
DTEND;TZID=America/Denver:20240902T040001
LOCATION:
SUMMARY:TGP closed for labor day
END:VEVENT
END:VCALENDAR
