BEGIN:VCALENDAR
VERSION:2.0
PRODID:-//tgpdenver.org//NONSGML kigkonsult.se iCalcreator 2.30.10//
CALSCALE:GREGORIAN
METHOD:PUBLISH
UID:b9d23c1f-72ba-4660-ac81-38c7ca7c5097
X-WR-CALDESC:Discuss what healthy and unhealthy relationships with partners
 \, employers\, or anyone\, look like. Gain tools for healthier connections
 . Learn to stay safer while staying in or leaving a relationship\, both ro
 mantic and non-romantic. Led by Voluntad staff\, who specialize in human t
 rafficking support.
X-WR-RELCALID:397323162e2d48ee5ae21499337346ac
X-WR-TIMEZONE:America/Denver
BEGIN:VTIMEZONE
TZID:America/Denver
BEGIN:STANDARD
TZNAME:MST
DTSTART:20231105T020000
TZOFFSETFROM:-0600
TZOFFSETTO:-0700
RDATE:20241103T020000
RDATE:20251102T020000
END:STANDARD
BEGIN:DAYLIGHT
TZNAME:MDT
DTSTART:20240310T020000
TZOFFSETFROM:-0700
TZOFFSETTO:-0600
RDATE:20250309T020000
END:DAYLIGHT
END:VTIMEZONE
BEGIN:VEVENT
UID:c86d8062-5ac7-4ea2-8e5b-aee306da6655
DTSTAMP:20260424T234654Z
DESCRIPTION:Discuss what healthy and unhealthy relationships with partners\
 , employers\, or anyone\, look like. Gain tools for healthier connections.
  Learn to stay safer while staying in or leaving a relationship\, both rom
 antic and non-romantic. Led by Voluntad staff\, who specialize in human tr
 afficking support.
DTSTART;TZID=America/Denver:20240904T110000
DTEND;TZID=America/Denver:20240904T120000
LOCATION:
SUMMARY:Relationships and Boundaries Support Group
END:VEVENT
END:VCALENDAR
