BEGIN:VCALENDAR
VERSION:2.0
PRODID:-//tgpdenver.org//NONSGML kigkonsult.se iCalcreator 2.30.10//
CALSCALE:GREGORIAN
METHOD:PUBLISH
UID:709868d7-629f-4688-8000-b7bcd3ce2a1f
X-WR-CALDESC:Use TGP's art room and supplies to work on any project you'd l
 ike. (no teacher or facilitator)
X-WR-RELCALID:8a1a522810d74d094ec0c912627a1a17
X-WR-TIMEZONE:America/Denver
BEGIN:VTIMEZONE
TZID:America/Denver
BEGIN:STANDARD
TZNAME:MST
DTSTART:20231105T020000
TZOFFSETFROM:-0600
TZOFFSETTO:-0700
RDATE:20241103T020000
RDATE:20251102T020000
END:STANDARD
BEGIN:DAYLIGHT
TZNAME:MDT
DTSTART:20240310T020000
TZOFFSETFROM:-0700
TZOFFSETTO:-0600
RDATE:20250309T020000
RDATE:20260308T020000
END:DAYLIGHT
END:VTIMEZONE
BEGIN:VEVENT
UID:82dedece-a6bf-4c22-ad55-81f127eae2b6
DTSTAMP:20260424T234439Z
DESCRIPTION:Use TGP's art room and supplies to work on any project you'd li
 ke. (no teacher or facilitator)
DTSTART;TZID=America/Denver:20240906T010000
DTEND;TZID=America/Denver:20240906T160000
LOCATION:
SUMMARY:Open Art Studio
END:VEVENT
END:VCALENDAR
