BEGIN:VCALENDAR
VERSION:2.0
PRODID:-//tgpdenver.org//NONSGML kigkonsult.se iCalcreator 2.30.10//
CALSCALE:GREGORIAN
METHOD:PUBLISH
UID:7fb9994f-813b-4aed-a1e7-0cec28bc41a3
X-WR-CALDESC:Space for members who have a terminal or chronic illness to sh
 are conversation and support. Facilitated by TGP staff\, Lucas.
X-WR-RELCALID:1a3099104b641faf209aa626d43f04ce
X-WR-TIMEZONE:America/Denver
BEGIN:VTIMEZONE
TZID:America/Denver
BEGIN:STANDARD
TZNAME:MST
DTSTART:20231105T020000
TZOFFSETFROM:-0600
TZOFFSETTO:-0700
RDATE:20241103T020000
RDATE:20251102T020000
END:STANDARD
BEGIN:DAYLIGHT
TZNAME:MDT
DTSTART:20240310T020000
TZOFFSETFROM:-0700
TZOFFSETTO:-0600
RDATE:20250309T020000
RDATE:20260308T020000
END:DAYLIGHT
END:VTIMEZONE
BEGIN:VEVENT
UID:9a62c378-80d5-4c4e-b39b-15a6eb2cf227
DTSTAMP:20260424T234802Z
DESCRIPTION:Space for members who have a terminal or chronic illness to sha
 re conversation and support. Facilitated by TGP staff\, Lucas.
DTSTART;TZID=America/Denver:20240911T110000
DTEND;TZID=America/Denver:20240911T120000
LOCATION:
SUMMARY:Terminal Illness Support group
END:VEVENT
END:VCALENDAR
