BEGIN:VCALENDAR
VERSION:2.0
PRODID:-//tgpdenver.org//NONSGML kigkonsult.se iCalcreator 2.30.10//
CALSCALE:GREGORIAN
METHOD:PUBLISH
UID:4216ca1b-8633-4642-84d0-ec4cd65a1136
X-WR-CALDESC:Free\, private tests for gonorrhea\, chlamydia\, syphilis\, an
 d HIV. Info for follow-up care at Denver Health if needed.
X-WR-RELCALID:dfa35b264e3aabbd572dbc85048146fd
X-WR-TIMEZONE:America/Denver
BEGIN:VTIMEZONE
TZID:America/Denver
BEGIN:STANDARD
TZNAME:MST
DTSTART:20231105T020000
TZOFFSETFROM:-0600
TZOFFSETTO:-0700
RDATE:20241103T020000
RDATE:20251102T020000
END:STANDARD
BEGIN:DAYLIGHT
TZNAME:MDT
DTSTART:20240310T020000
TZOFFSETFROM:-0700
TZOFFSETTO:-0600
RDATE:20250309T020000
RDATE:20260308T020000
END:DAYLIGHT
END:VTIMEZONE
BEGIN:VEVENT
UID:bce345df-f933-4ece-b9d6-74ac99ba8ca6
DTSTAMP:20260424T235313Z
DESCRIPTION:Free\, private tests for gonorrhea\, chlamydia\, syphilis\, and
  HIV. Info for follow-up care at Denver Health if needed.
DTSTART;TZID=America/Denver:20240912T100000
DTEND;TZID=America/Denver:20240912T140000
LOCATION:
SUMMARY:STI and HIV (sexual health) testing with Denver Health
END:VEVENT
END:VCALENDAR
