BEGIN:VCALENDAR
VERSION:2.0
PRODID:-//tgpdenver.org//NONSGML kigkonsult.se iCalcreator 2.30.10//
CALSCALE:GREGORIAN
METHOD:PUBLISH
UID:8b5b23b3-bdb2-4b05-89b9-208ec9bdec55
X-WR-CALDESC:Member-led group! Learn to make simple jewelry to take with yo
 u.
X-WR-RELCALID:c7750295ebe0d6223755002f0132f7b9
X-WR-TIMEZONE:America/Denver
BEGIN:VTIMEZONE
TZID:America/Denver
BEGIN:STANDARD
TZNAME:MST
DTSTART:20231105T020000
TZOFFSETFROM:-0600
TZOFFSETTO:-0700
RDATE:20241103T020000
RDATE:20251102T020000
END:STANDARD
BEGIN:DAYLIGHT
TZNAME:MDT
DTSTART:20240310T020000
TZOFFSETFROM:-0700
TZOFFSETTO:-0600
RDATE:20250309T020000
RDATE:20260308T020000
END:DAYLIGHT
END:VTIMEZONE
BEGIN:VEVENT
UID:530289e5-9cdb-41b7-8447-13222c7f02f1
DTSTAMP:20260424T235035Z
DESCRIPTION:Member-led group! Learn to make simple jewelry to take with you
 .
DTSTART;TZID=America/Denver:20240916T093000
DTEND;TZID=America/Denver:20240916T120000
LOCATION:
SUMMARY:Jewelry Making
END:VEVENT
END:VCALENDAR
