BEGIN:VCALENDAR
VERSION:2.0
PRODID:-//tgpdenver.org//NONSGML kigkonsult.se iCalcreator 2.30.10//
CALSCALE:GREGORIAN
METHOD:PUBLISH
UID:326040e1-2f08-4dfd-9ee1-8690879e62f1
X-WR-CALDESC:Learn about the recovery process\, have fun\, win prizes!
X-WR-RELCALID:0acc59b3c57a727a54c29474e4f6f0c8
X-WR-TIMEZONE:America/Denver
BEGIN:VTIMEZONE
TZID:America/Denver
BEGIN:STANDARD
TZNAME:MST
DTSTART:20231105T020000
TZOFFSETFROM:-0600
TZOFFSETTO:-0700
RDATE:20241103T020000
RDATE:20251102T020000
END:STANDARD
BEGIN:DAYLIGHT
TZNAME:MDT
DTSTART:20240310T020000
TZOFFSETFROM:-0700
TZOFFSETTO:-0600
RDATE:20250309T020000
RDATE:20260308T020000
END:DAYLIGHT
END:VTIMEZONE
BEGIN:VEVENT
UID:69d5b1de-01bd-4628-bd38-58ae78c18f99
DTSTAMP:20260424T234645Z
DESCRIPTION:Learn about the recovery process\, have fun\, win prizes!
DTSTART;TZID=America/Denver:20240919T110000
DTEND;TZID=America/Denver:20240919T120000
LOCATION:
SUMMARY:Recovery Bingo
END:VEVENT
END:VCALENDAR
