BEGIN:VCALENDAR
VERSION:2.0
PRODID:-//tgpdenver.org//NONSGML kigkonsult.se iCalcreator 2.30.10//
CALSCALE:GREGORIAN
METHOD:PUBLISH
UID:e5351f3a-41fb-4a6d-b93d-50178bccd960
X-WR-CALDESC:Want to publish art\, poetry\, or a story? Learn about helping
  to create a TGP 'zine! (small magazine)
X-WR-RELCALID:b01a5a84c24ed6546c32e77cd31c8986
X-WR-TIMEZONE:America/Denver
BEGIN:VTIMEZONE
TZID:America/Denver
BEGIN:STANDARD
TZNAME:MST
DTSTART:20231105T020000
TZOFFSETFROM:-0600
TZOFFSETTO:-0700
RDATE:20241103T020000
RDATE:20251102T020000
END:STANDARD
BEGIN:DAYLIGHT
TZNAME:MDT
DTSTART:20240310T020000
TZOFFSETFROM:-0700
TZOFFSETTO:-0600
RDATE:20250309T020000
RDATE:20260308T020000
END:DAYLIGHT
END:VTIMEZONE
BEGIN:VEVENT
UID:32b166e4-0560-4ab3-97aa-46f2345ac9c0
DTSTAMP:20260424T234521Z
DESCRIPTION:Want to publish art\, poetry\, or a story? Learn about helping 
 to create a TGP 'zine! (small magazine)
DTSTART;TZID=America/Denver:20240920T103000
DTEND;TZID=America/Denver:20240920T120000
LOCATION:
SUMMARY:'Zine Brainstorming
END:VEVENT
END:VCALENDAR
