BEGIN:VCALENDAR
VERSION:2.0
PRODID:-//tgpdenver.org//NONSGML kigkonsult.se iCalcreator 2.30.10//
CALSCALE:GREGORIAN
METHOD:PUBLISH
UID:9e927557-0517-4f8e-82d1-f8da164a5b4d
X-WR-CALDESC:Member-led group! Learn to make simple jewelry to take with yo
 u.
X-WR-RELCALID:7181d1027f99573264f5df3eca3b0800
X-WR-TIMEZONE:America/Denver
BEGIN:VTIMEZONE
TZID:America/Denver
BEGIN:STANDARD
TZNAME:MST
DTSTART:20231105T020000
TZOFFSETFROM:-0600
TZOFFSETTO:-0700
RDATE:20241103T020000
RDATE:20251102T020000
END:STANDARD
BEGIN:DAYLIGHT
TZNAME:MDT
DTSTART:20240310T020000
TZOFFSETFROM:-0700
TZOFFSETTO:-0600
RDATE:20250309T020000
RDATE:20260308T020000
END:DAYLIGHT
END:VTIMEZONE
BEGIN:VEVENT
UID:e9ee3f7c-2aa4-4755-a1f4-3daa09c7f096
DTSTAMP:20260424T235113Z
DESCRIPTION:Member-led group! Learn to make simple jewelry to take with you
 .
DTSTART;TZID=America/Denver:20240923T093000
DTEND;TZID=America/Denver:20240923T120000
LOCATION:
SUMMARY:Jewelry Making
END:VEVENT
END:VCALENDAR
